BEGIN:VCALENDAR
VERSION:2.0
PRODID:-//DBHC - ECPv6.15.20//NONSGML v1.0//EN
CALSCALE:GREGORIAN
METHOD:PUBLISH
X-ORIGINAL-URL:https://dbhc.org.uk
X-WR-CALDESC:Events for DBHC
REFRESH-INTERVAL;VALUE=DURATION:PT1H
X-Robots-Tag:noindex
X-PUBLISHED-TTL:PT1H
BEGIN:VTIMEZONE
TZID:Europe/London
BEGIN:DAYLIGHT
TZOFFSETFROM:+0000
TZOFFSETTO:+0100
TZNAME:BST
DTSTART:20230326T010000
END:DAYLIGHT
BEGIN:STANDARD
TZOFFSETFROM:+0100
TZOFFSETTO:+0000
TZNAME:GMT
DTSTART:20231029T010000
END:STANDARD
BEGIN:DAYLIGHT
TZOFFSETFROM:+0000
TZOFFSETTO:+0100
TZNAME:BST
DTSTART:20240331T010000
END:DAYLIGHT
BEGIN:STANDARD
TZOFFSETFROM:+0100
TZOFFSETTO:+0000
TZNAME:GMT
DTSTART:20241027T010000
END:STANDARD
BEGIN:DAYLIGHT
TZOFFSETFROM:+0000
TZOFFSETTO:+0100
TZNAME:BST
DTSTART:20250330T010000
END:DAYLIGHT
BEGIN:STANDARD
TZOFFSETFROM:+0100
TZOFFSETTO:+0000
TZNAME:GMT
DTSTART:20251026T010000
END:STANDARD
END:VTIMEZONE
BEGIN:VEVENT
DTSTART;TZID=Europe/London:20240413T080000
DTEND;TZID=Europe/London:20240413T170000
DTSTAMP:20260419T225649
CREATED:20240202T140711Z
LAST-MODIFIED:20240202T140711Z
UID:10000039-1712995200-1713027600@dbhc.org.uk
SUMMARY:Inflatable Obstacle Course - Choose from 2.5K\, 5K\, 10K & 15k
DESCRIPTION:Get ready to bounce your way through The World’s BIGGEST and most EPIC Inflatable 5K Obstacle Course!  CLICK HERE TO REGISTER \nThis event is taking place at Donington Park (Derby) on Sat 13th\, April 2024\, and it’s going to be BIGGER\, BOUNCIER\, and BETTER than ever before! \nThe excitement has been pumped up to the MAX\, you’ll be jumping\, sliding\, and bouncing your way to the finish line like never before. \nBring family and friends along to tackle the 32 gigantic obstacles on the course and enjoy the fantastic atmosphere\, with high-energy music to get you through to the finish line! \nSo grab your friends\, lace up your trainers\, and get ready for the ultimate inflatable adventure!
URL:https://dbhc.org.uk/event/inflatable-obstacle-course-choose-from-2-5k-5k-10k-15k/
LOCATION:Donington Park\, Donington Park\, Castle Donington\, DE74 2BN
ATTACH;FMTTYPE=image/jpeg:https://dbhc.org.uk/wp-content/uploads/2024/02/Image-3.jpg
END:VEVENT
END:VCALENDAR