BEGIN:VCALENDAR
VERSION:2.0
PRODID:-//DBHC - ECPv6.15.20//NONSGML v1.0//EN
CALSCALE:GREGORIAN
METHOD:PUBLISH
X-ORIGINAL-URL:https://dbhc.org.uk
X-WR-CALDESC:Events for DBHC
REFRESH-INTERVAL;VALUE=DURATION:PT1H
X-Robots-Tag:noindex
X-PUBLISHED-TTL:PT1H
BEGIN:VTIMEZONE
TZID:Europe/London
BEGIN:DAYLIGHT
TZOFFSETFROM:+0000
TZOFFSETTO:+0100
TZNAME:BST
DTSTART:20250330T010000
END:DAYLIGHT
BEGIN:STANDARD
TZOFFSETFROM:+0100
TZOFFSETTO:+0000
TZNAME:GMT
DTSTART:20251026T010000
END:STANDARD
BEGIN:DAYLIGHT
TZOFFSETFROM:+0000
TZOFFSETTO:+0100
TZNAME:BST
DTSTART:20260329T010000
END:DAYLIGHT
BEGIN:STANDARD
TZOFFSETFROM:+0100
TZOFFSETTO:+0000
TZNAME:GMT
DTSTART:20261025T010000
END:STANDARD
BEGIN:DAYLIGHT
TZOFFSETFROM:+0000
TZOFFSETTO:+0100
TZNAME:BST
DTSTART:20270328T010000
END:DAYLIGHT
BEGIN:STANDARD
TZOFFSETFROM:+0100
TZOFFSETTO:+0000
TZNAME:GMT
DTSTART:20271031T010000
END:STANDARD
END:VTIMEZONE
BEGIN:VEVENT
DTSTART;TZID=Europe/London:20260815T080000
DTEND;TZID=Europe/London:20260815T170000
DTSTAMP:20260419T200248
CREATED:20250717T095102Z
LAST-MODIFIED:20250807T111555Z
UID:10000085-1786780800-1786813200@dbhc.org.uk
SUMMARY:Derby Cathedral Abseil 2026
DESCRIPTION:CLICK HERE TO BUY TICKETS\n\nAttention thrill-seekers and those with a head for heights\, we invite you to participate in the exhilarating charity abseil at Derby Cathedral\, making its comeback in August 2026. \nYou’ll ascend the 189 steps to reach the summit of the cathedral’s iconic tower. Once at the top\, you’ll be able to take in panoramic views of the city before being securely harnessed.  Then\, it’s your chance to take the plunge\, abseiling the 212 feet back down. \nExperience the unique opportunity to observe the clock-face up close as you gracefully abseil down the tower. Every penny raised through your sponsorship will contribute to making a huge difference for patients and staff being cared for and working across Derby\, Derbyshire and Staffordshire. \nHow to sign up. \nAbseiling opportunities are open from 8 am to 5 pm\, making participation in the Derby Cathedral Abseil a breeze. \nJust click here to access our booking page\, choose your time slot and add the number of tickets to your basket\, complete the registration form and complete your registration with a £20 fee (+ £1.25 booking fee) per person. Participants are required to raise a minimum of £100 through sponsorship for their abseil. \nWhat is the cancellation policy? \nWe can only offer refunds or exchanges if an event has been cancelled or rescheduled.  We do offer a 24-hour cooling off period\, allowing you to request a refund within 24 hours of your booking.  Bookings made within 14 days of the event are exempt from the cooling off period.
URL:https://dbhc.org.uk/event/abseil2026/
LOCATION:Derby Cathedral
CATEGORIES:Events
ATTACH;FMTTYPE=image/png:https://dbhc.org.uk/wp-content/uploads/2025/07/Abseil-2025-1.png
END:VEVENT
END:VCALENDAR